Workbook
Name CuentasDetalle: OFFSET(Listas!$D$1, 0, 0, COUNTIF(Listas!$D:$D, "<>"), 1)
Name CuentasGrupo: OFFSET(Listas!$E$1, 0, 0, COUNTIF(Listas!$E:$E, "<>"), 1)

Sheet Proveedores
A1: 📌 Antes de completar esta hoja: • El Nombre y la Razón Social son obligatorios. • El Nombre y la Razón Social no pueden repetirse. • Los demás campos son opcionales y pueden completarse según la información disponible.
A2: Nombre | B2: Razón Social | C2: RTN | D2: Contacto Principal | E2: Correo Electrónico | F2: Teléfono | G2: Celular | H2: Dirección | I2: Sitio Web

Sheet Clientes
A1: 📌 Antes de completar esta hoja: • El Nombre del Cliente es obligatorio y no puede repetirse. • Los demás campos son opcionales y pueden completarse según la información disponible. • Puede agregar columnas adicionales para guardar información personalizada que desee registrar de sus clientes.
A2: Nombre | B2: RTN | C2: Correo Electrónico | D2: DNI | E2: Celular | F2: Teléfono | G2: Dirección

Sheet Categorías
A1: 📌 Antes de completar esta hoja: • El Nombre de la Categoría es obligatorio y no puede repetirse. • La Descripción es opcional. • Las categorías se utilizan para organizar sus productos dentro del sistema.
A2: Nombre | B2: Descripción

Sheet SubCategorías
A1: 📌 Antes de completar esta hoja: • El Nombre de la SubCategoría es obligatorio y no puede repetirse. • Debe seleccionar la Categoría a la que pertenece cada SubCategoría. • Las SubCategorías son opcionales y le permiten organizar con mayor detalle sus productos.
A2: Nombre | B2: Categoría

Sheet Unidades
A1: 📌 Antes de completar esta hoja: • El Nombre y la Abreviatura son obligatorios y no pueden repetirse. • El sistema ya incluye unidades predefinidas. • Puede agregar nuevas unidades si no encuentra la que necesita en el catálogo.
A2: Nombre | B2: Abreviatura
A3: Pulgada | B3: plg
A4: Metros | B4: m
A5: Centímetros Cuadrados | B5: cm²
A6: Unidad | B6: u
A7: Metros Cuadrados | B7: m²
A8: Mililitros | B8: ml
A9: Centímetros | B9: cm
A10: Gramos | B10: g
A11: Libras | B11: lb
A12: Onzas | B12: oz
A13: Litros | B13: L
... A19: Kilogramos | B19: kg

Sheet Cuentas de Ingresos
A1: 📌 Antes de completar esta hoja: • Las Cuentas de Ingreso definen a qué cuenta contable se registrará el dinero de los servicios y productos no inventariables. • El Nombre es obligatorio y debe ser único. • La Descripción es opcional. • Puede indicar si la cuenta es de Grupo o de Detalle. • Las cuentas de Detalle deben asociarse a una Cuenta Padre, que corresponde a una cuenta de Grupo.
A2: Nombre de la Cuenta | B2: Descripción | C2: Tipo de Cuenta | D2: Cuenta padre

Sheet Productos
A1: 📌 Antes de completar esta hoja: • Complete primero las hojas de los catálogos (Unidades, Categorías, SubCategorías y Proveedores). • Las Categorías son obligatorias. Las SubCategorías son opcionales. • Código, Código de barras y Nombre no pueden repetirse (mínimo 3 caracteres para el Código). • Puede definir el Código y Código de Barra manualmente o permitir que el sistema los genere. Si estos campos se dejan vacíos, se generarán automáticamente. • Use únicamente los desplegables en Unidad, Categoría, SubCategoría, Proveedor e Impuesto para asignar los correspondientes a cada producto. • “Precio sin Impuesto” se calcula automáticamente y es el precio con el que se creará el producto en el sistema.
A2: Código | B2: Código de Barra | C2: Nombre del Producto | D2: Descripción | E2: Unidad de Venta | F2: Categoría | G2: SubCategoría | H2: Proveedor | I2: Impuesto | J2: Precio Base | K2: Precio Base sin Impuesto | L2: Código Autogenerado | M2: Código de Barra Autogenerado | N2: Con Código de Barra
K3: =IF(J3="","",ROUND(J3/(1+I3/100),2)) | L3: =IF(A3="","Sí","No") -> Sí | M3: =IF(B3="","Sí","No") -> Sí | N3: =IF(B3="","No","Sí") -> No
K4: =IF(J4="","",ROUND(J4/(1+I4/100),2)) | L4: =IF(A4="","Sí","No") -> Sí | M4: =IF(B4="","Sí","No") -> Sí | N4: =IF(B4="","No","Sí") -> No
K5: =IF(J5="","",ROUND(J5/(1+I5/100),2)) | L5: =IF(A5="","Sí","No") -> Sí | M5: =IF(B5="","Sí","No") -> Sí | N5: =IF(B5="","No","Sí") -> No
K6: =IF(J6="","",ROUND(J6/(1+I6/100),2)) | L6: =IF(A6="","Sí","No") -> Sí | M6: =IF(B6="","Sí","No") -> Sí | N6: =IF(B6="","No","Sí") -> No
K7: =IF(J7="","",ROUND(J7/(1+I7/100),2)) | L7: =IF(A7="","Sí","No") -> Sí | M7: =IF(B7="","Sí","No") -> Sí | N7: =IF(B7="","No","Sí") -> No
K8: =IF(J8="","",ROUND(J8/(1+I8/100),2)) | L8: =IF(A8="","Sí","No") -> Sí | M8: =IF(B8="","Sí","No") -> Sí | N8: =IF(B8="","No","Sí") -> No
K9: =IF(J9="","",ROUND(J9/(1+I9/100),2)) | L9: =IF(A9="","Sí","No") -> Sí | M9: =IF(B9="","Sí","No") -> Sí | N9: =IF(B9="","No","Sí") -> No
K10: =IF(J10="","",ROUND(J10/(1+I10/100),2)) | L10: =IF(A10="","Sí","No") -> Sí | M10: =IF(B10="","Sí","No") -> Sí | N10: =IF(B10="","No","Sí") -> No
K11: =IF(J11="","",ROUND(J11/(1+I11/100),2)) | L11: =IF(A11="","Sí","No") -> Sí | M11: =IF(B11="","Sí","No") -> Sí | N11: =IF(B11="","No","Sí") -> No
K12: =IF(J12="","",ROUND(J12/(1+I12/100),2)) | L12: =IF(A12="","Sí","No") -> Sí | M12: =IF(B12="","Sí","No") -> Sí | N12: =IF(B12="","No","Sí") -> No
K13: =IF(J13="","",ROUND(J13/(1+I13/100),2)) | L13: =IF(A13="","Sí","No") -> Sí | M13: =IF(B13="","Sí","No") -> Sí | N13: =IF(B13="","No","Sí") -> No
K14: =IF(J14="","",ROUND(J14/(1+I14/100),2)) | L14: =IF(A14="","Sí","No") -> Sí | M14: =IF(B14="","Sí","No") -> Sí | N14: =IF(B14="","No","Sí") -> No
... K31: =IF(J31="","",ROUND(J31/(1+I31/100),2)) | L31: =IF(A31="","Sí","No") -> Sí | M31: =IF(B31="","Sí","No") -> Sí | N31: =IF(B31="","No","Sí") -> No
K32: =IF(J32="","",ROUND(J32/(1+I32/100),2)) | L32: =IF(A97="","Sí","No") -> Sí | M32: =IF(B32="","Sí","No") -> Sí | N32: =IF(B32="","No","Sí") -> No
K33: =IF(J33="","",ROUND(J33/(1+I33/100),2)) | L33: =IF(A98="","Sí","No") -> Sí | M33: =IF(B33="","Sí","No") -> Sí | N33: =IF(B33="","No","Sí") -> No
K34: =IF(J34="","",ROUND(J34/(1+I34/100),2)) | L34: =IF(A99="","Sí","No") -> Sí | M34: =IF(B34="","Sí","No") -> Sí | N34: =IF(B34="","No","Sí") -> No
K35: =IF(J35="","",ROUND(J35/(1+I35/100),2)) | L35: =IF(A100="","Sí","No") -> Sí | M35: =IF(B35="","Sí","No") -> Sí | N35: =IF(B35="","No","Sí") -> No
K36: =IF(J36="","",ROUND(J36/(1+I36/100),2)) | L36: =IF(A101="","Sí","No") -> Sí | M36: =IF(B36="","Sí","No") -> Sí | N36: =IF(B36="","No","Sí") -> No
K37: =IF(J37="","",ROUND(J37/(1+I37/100),2)) | L37: =IF(A102="","Sí","No") -> Sí | M37: =IF(B37="","Sí","No") -> Sí | N37: =IF(B37="","No","Sí") -> No
K38: =IF(J38="","",ROUND(J38/(1+I38/100),2)) | L38: =IF(A103="","Sí","No") -> Sí | M38: =IF(B38="","Sí","No") -> Sí | N38: =IF(B38="","No","Sí") -> No
K39: =IF(J39="","",ROUND(J39/(1+I39/100),2)) | L39: =IF(A104="","Sí","No") -> Sí | M39: =IF(B39="","Sí","No") -> Sí | N39: =IF(B39="","No","Sí") -> No
K40: =IF(J40="","",ROUND(J40/(1+I40/100),2)) | L40: =IF(A105="","Sí","No") -> Sí | M40: =IF(B40="","Sí","No") -> Sí | N40: =IF(B40="","No","Sí") -> No
K41: =IF(J41="","",ROUND(J41/(1+I41/100),2)) | L41: =IF(A106="","Sí","No") -> Sí | M41: =IF(B41="","Sí","No") -> Sí | N41: =IF(B41="","No","Sí") -> No
K42: =IF(J42="","",ROUND(J42/(1+I42/100),2)) | L42: =IF(A107="","Sí","No") -> Sí | M42: =IF(B42="","Sí","No") -> Sí | N42: =IF(B42="","No","Sí") -> No
K43: =IF(J43="","",ROUND(J43/(1+I43/100),2)) | L43: =IF(A108="","Sí","No") -> Sí | M43: =IF(B43="","Sí","No") -> Sí | N43: =IF(B43="","No","Sí") -> No
... K47: =IF(J47="","",ROUND(J47/(1+I47/100),2)) | L47: =IF(A112="","Sí","No") -> Sí | M47: =IF(B47="","Sí","No") -> Sí | N47: =IF(B47="","No","Sí") -> No
K48: =IF(J48="","",ROUND(J48/(1+I48/100),2)) | L48: =IF(A48="","Sí","No") -> Sí | M48: =IF(B48="","Sí","No") -> Sí | N48: =IF(B48="","No","Sí") -> No
K49: =IF(J49="","",ROUND(J49/(1+I49/100),2)) | L49: =IF(A49="","Sí","No") -> Sí | M49: =IF(B49="","Sí","No") -> Sí | N49: =IF(B49="","No","Sí") -> No
K50: =IF(J50="","",ROUND(J50/(1+I50/100),2)) | L50: =IF(A50="","Sí","No") -> Sí | M50: =IF(B50="","Sí","No") -> Sí | N50: =IF(B50="","No","Sí") -> No
K51: =IF(J51="","",ROUND(J51/(1+I51/100),2)) | L51: =IF(A51="","Sí","No") -> Sí | M51: =IF(B51="","Sí","No") -> Sí | N51: =IF(B51="","No","Sí") -> No
K52: =IF(J52="","",ROUND(J52/(1+I52/100),2)) | L52: =IF(A52="","Sí","No") -> Sí | M52: =IF(B52="","Sí","No") -> Sí | N52: =IF(B52="","No","Sí") -> No
K53: =IF(J53="","",ROUND(J53/(1+I53/100),2)) | L53: =IF(A53="","Sí","No") -> Sí | M53: =IF(B53="","Sí","No") -> Sí | N53: =IF(B53="","No","Sí") -> No
K54: =IF(J54="","",ROUND(J54/(1+I54/100),2)) | L54: =IF(A54="","Sí","No") -> Sí | M54: =IF(B54="","Sí","No") -> Sí | N54: =IF(B54="","No","Sí") -> No
K55: =IF(J55="","",ROUND(J55/(1+I55/100),2)) | L55: =IF(A55="","Sí","No") -> Sí | M55: =IF(B55="","Sí","No") -> Sí | N55: =IF(B55="","No","Sí") -> No
K56: =IF(J56="","",ROUND(J56/(1+I56/100),2)) | L56: =IF(A56="","Sí","No") -> Sí | M56: =IF(B56="","Sí","No") -> Sí | N56: =IF(B56="","No","Sí") -> No
K57: =IF(J57="","",ROUND(J57/(1+I57/100),2)) | L57: =IF(A57="","Sí","No") -> Sí | M57: =IF(B57="","Sí","No") -> Sí | N57: =IF(B57="","No","Sí") -> No
K58: =IF(J58="","",ROUND(J58/(1+I58/100),2)) | L58: =IF(A58="","Sí","No") -> Sí | M58: =IF(B58="","Sí","No") -> Sí | N58: =IF(B58="","No","Sí") -> No
K59: =IF(J59="","",ROUND(J59/(1+I59/100),2)) | L59: =IF(A59="","Sí","No") -> Sí | M59: =IF(B59="","Sí","No") -> Sí | N59: =IF(B59="","No","Sí") -> No
...

Sheet Servicios
A1: 📌 Antes de completar esta hoja: • Complete primero las hojas de los catálogos (Categorías, SubCategorías y Cuentas de Ingresos). • Las Categorías son obligatorias. Las SubCategorías son opcionales. • Código y Nombre no pueden repetirse (mínimo 3 caracteres para el Código). • Puede definir el Código o permitir que el sistema los genere. Si este campo se deja vacío, se generará automáticamente. • Use únicamente los desplegables en Categoría, SubCategoría, Impuesto y Cuenta de Ingresos para asignar los correspondientes a cada producto. • “Precio Base sin Impuesto” se calcula automáticamente y es el precio con el que se creará el producto en el sistema.
A2: Código | B2: Nombre del Servicio | C2: Descripción | D2: Categoría | E2: SubCategoría | F2: Impuesto | G2: Precio Base | H2: Precio Base sin Impuesto | I2: Código Autogenerado | J2: Cuenta de Ingresos
H3: =IF(G3="","",ROUND(G3/(1+F3/100),2)) | I3: =IF(A3="","Sí","No") -> Sí
H4: =IF(G4="","",ROUND(G4/(1+F4/100),2)) | I4: =IF(A4="","Sí","No") -> Sí
H5: =IF(G5="","",ROUND(G5/(1+F5/100),2)) | I5: =IF(A5="","Sí","No") -> Sí
H6: =IF(G6="","",ROUND(G6/(1+F6/100),2)) | I6: =IF(A6="","Sí","No") -> Sí
H7: =IF(G7="","",ROUND(G7/(1+F7/100),2)) | I7: =IF(A7="","Sí","No") -> Sí
H8: =IF(G8="","",ROUND(G8/(1+F8/100),2)) | I8: =IF(A8="","Sí","No") -> Sí
H9: =IF(G9="","",ROUND(G9/(1+F9/100),2)) | I9: =IF(A9="","Sí","No") -> Sí
H10: =IF(G10="","",ROUND(G10/(1+F10/100),2)) | I10: =IF(A10="","Sí","No") -> Sí
H11: =IF(G11="","",ROUND(G11/(1+F11/100),2)) | I11: =IF(A11="","Sí","No") -> Sí
H12: =IF(G12="","",ROUND(G12/(1+F12/100),2)) | I12: =IF(A12="","Sí","No") -> Sí
H13: =IF(G13="","",ROUND(G13/(1+F13/100),2)) | I13: =IF(A13="","Sí","No") -> Sí
H14: =IF(G14="","",ROUND(G14/(1+F14/100),2)) | I14: =IF(A14="","Sí","No") -> Sí
... H1202: =IF(G1202="","",ROUND(G1202/(1+F1202/100),2)) | I1202: =IF(A1202="","Sí","No") -> Sí
H1203: =IF(G1203="","",ROUND(G1203/1.15,2)) | I1203: =IF(A1203="","Sí","No") -> Sí
H1204: =IF(G1204="","",ROUND(G1204/1.15,2)) | I1204: =IF(A1204="","Sí","No") -> Sí
H1205: =IF(G1205="","",ROUND(G1205/1.15,2)) | I1205: =IF(A1205="","Sí","No") -> Sí
H1206: =IF(G1206="","",ROUND(G1206/1.15,2)) | I1206: =IF(A1206="","Sí","No") -> Sí
H1207: =IF(G1207="","",ROUND(G1207/1.15,2)) | I1207: =IF(A1207="","Sí","No") -> Sí
H1208: =IF(G1208="","",ROUND(G1208/1.15,2)) | I1208: =IF(A1208="","Sí","No") -> Sí
H1209: =IF(G1209="","",ROUND(G1209/1.15,2)) | I1209: =IF(A1209="","Sí","No") -> Sí
H1210: =IF(G1210="","",ROUND(G1210/1.15,2)) | I1210: =IF(A1210="","Sí","No") -> Sí
H1211: =IF(G1211="","",ROUND(G1211/1.15,2)) | I1211: =IF(A1211="","Sí","No") -> Sí
H1212: =IF(G1212="","",ROUND(G1212/1.15,2)) | I1212: =IF(A1212="","Sí","No") -> Sí
H1213: =IF(G1213="","",ROUND(G1213/1.15,2)) | I1213: =IF(A1213="","Sí","No") -> Sí
H1214: =IF(G1214="","",ROUND(G1214/1.15,2)) | I1214: =IF(A1214="","Sí","No") -> Sí
... H1501: =IF(G1501="","",ROUND(G1501/1.15,2)) | I1501: =IF(A1501="","Sí","No") -> Sí

Sheet Productos No Inventariables
A1: 📌 Antes de completar esta hoja: • Complete primero las hojas de los catálogos (Unidades, Categorías, SubCategorías, Proveedores y Cuentas de Ingresos). • Los Productos No Inventariables son aquellos de los que no se lleva control de inventario dentro del sistema. • Las Categorías son obligatorias. Las SubCategorías son opcionales. • Código, Código de barras y Nombre no pueden repetirse (mínimo 3 caracteres para el Código). • Puede definir el Código y Código de Barra manualmente o permitir que el sistema los genere. Si estos campos se dejan vacíos, se generarán automáticamente. • Use únicamente los desplegables en Unidad, Categoría, SubCategoría, Proveedor, Impuesto para asignar los correspondientes a cada producto. • “Precio sin Impuesto” se calcula automáticamente y es el precio con el que se creará el producto en el sistema.
A2: Código | B2: Código de Barra | C2: Nombre del Producto | D2: Descripción | E2: Unidad de Venta | F2: Categoría | G2: SubCategoría | H2: Proveedor | I2: Impuesto | J2: Precio Base | K2: Precio Base sin Impuesto | L2: Código Autogenerado | M2: Código de Barra Autogenerado | N2: Con Código de Barra | O2: Cuenta de Ingresos
K3: =IF(J3="","",ROUND(J3/(1+I3/100),2)) | L3: =IF(A3="","Sí","No") -> Sí | M3: =IF(B3="","Sí","No") -> Sí | N3: =IF(B3="","No","Sí") -> No
K4: =IF(J4="","",ROUND(J4/(1+I4/100),2)) | L4: =IF(A4="","Sí","No") -> Sí | M4: =IF(B4="","Sí","No") -> Sí | N4: =IF(B4="","No","Sí") -> No
K5: =IF(J5="","",ROUND(J5/(1+I5/100),2)) | L5: =IF(A5="","Sí","No") -> Sí | M5: =IF(B5="","Sí","No") -> Sí | N5: =IF(B5="","No","Sí") -> No
K6: =IF(J6="","",ROUND(J6/(1+I6/100),2)) | L6: =IF(A6="","Sí","No") -> Sí | M6: =IF(B6="","Sí","No") -> Sí | N6: =IF(B6="","No","Sí") -> No
K7: =IF(J7="","",ROUND(J7/(1+I7/100),2)) | L7: =IF(A7="","Sí","No") -> Sí | M7: =IF(B7="","Sí","No") -> Sí | N7: =IF(B7="","No","Sí") -> No
K8: =IF(J8="","",ROUND(J8/(1+I8/100),2)) | L8: =IF(A8="","Sí","No") -> Sí | M8: =IF(B8="","Sí","No") -> Sí | N8: =IF(B8="","No","Sí") -> No
K9: =IF(J9="","",ROUND(J9/(1+I9/100),2)) | L9: =IF(A9="","Sí","No") -> Sí | M9: =IF(B9="","Sí","No") -> Sí | N9: =IF(B9="","No","Sí") -> No
K10: =IF(J10="","",ROUND(J10/(1+I10/100),2)) | L10: =IF(A10="","Sí","No") -> Sí | M10: =IF(B10="","Sí","No") -> Sí | N10: =IF(B10="","No","Sí") -> No
K11: =IF(J11="","",ROUND(J11/(1+I11/100),2)) | L11: =IF(A11="","Sí","No") -> Sí | M11: =IF(B11="","Sí","No") -> Sí | N11: =IF(B11="","No","Sí") -> No
K12: =IF(J12="","",ROUND(J12/(1+I12/100),2)) | L12: =IF(A12="","Sí","No") -> Sí | M12: =IF(B12="","Sí","No") -> Sí | N12: =IF(B12="","No","Sí") -> No
K13: =IF(J13="","",ROUND(J13/(1+I13/100),2)) | L13: =IF(A13="","Sí","No") -> Sí | M13: =IF(B13="","Sí","No") -> Sí | N13: =IF(B13="","No","Sí") -> No
K14: =IF(J14="","",ROUND(J14/(1+I14/100),2)) | L14: =IF(A14="","Sí","No") -> Sí | M14: =IF(B14="","Sí","No") -> Sí | N14: =IF(B14="","No","Sí") -> No
... K1228: =IF(J1228="","",ROUND(J1228/(1+I1228/100),2)) | L1228: =IF(A1228="","Sí","No") -> Sí | M1228: =IF(B1228="","Sí","No") -> Sí | N1228: =IF(B1228="","No","Sí") -> No
K1229: =IF(J1229="","",ROUND(J1229/1.15,2)) | L1229: =IF(A1229="","Sí","No") -> Sí | M1229: =IF(B1229="","Sí","No") -> Sí | N1229: =IF(B1229="","No","Sí") -> No
K1230: =IF(J1230="","",ROUND(J1230/1.15,2)) | L1230: =IF(A1230="","Sí","No") -> Sí | M1230: =IF(B1230="","Sí","No") -> Sí | N1230: =IF(B1230="","No","Sí") -> No
K1231: =IF(J1231="","",ROUND(J1231/1.15,2)) | L1231: =IF(A1231="","Sí","No") -> Sí | M1231: =IF(B1231="","Sí","No") -> Sí | N1231: =IF(B1231="","No","Sí") -> No
K1232: =IF(J1232="","",ROUND(J1232/1.15,2)) | L1232: =IF(A1232="","Sí","No") -> Sí | M1232: =IF(B1232="","Sí","No") -> Sí | N1232: =IF(B1232="","No","Sí") -> No
K1233: =IF(J1233="","",ROUND(J1233/1.15,2)) | L1233: =IF(A1233="","Sí","No") -> Sí | M1233: =IF(B1233="","Sí","No") -> Sí | N1233: =IF(B1233="","No","Sí") -> No
K1234: =IF(J1234="","",ROUND(J1234/1.15,2)) | L1234: =IF(A1234="","Sí","No") -> Sí | M1234: =IF(B1234="","Sí","No") -> Sí | N1234: =IF(B1234="","No","Sí") -> No
K1235: =IF(J1235="","",ROUND(J1235/1.15,2)) | L1235: =IF(A1235="","Sí","No") -> Sí | M1235: =IF(B1235="","Sí","No") -> Sí | N1235: =IF(B1235="","No","Sí") -> No
K1236: =IF(J1236="","",ROUND(J1236/1.15,2)) | L1236: =IF(A1236="","Sí","No") -> Sí | M1236: =IF(B1236="","Sí","No") -> Sí | N1236: =IF(B1236="","No","Sí") -> No
K1237: =IF(J1237="","",ROUND(J1237/1.15,2)) | L1237: =IF(A1237="","Sí","No") -> Sí | M1237: =IF(B1237="","Sí","No") -> Sí | N1237: =IF(B1237="","No","Sí") -> No
K1238: =IF(J1238="","",ROUND(J1238/1.15,2)) | L1238: =IF(A1238="","Sí","No") -> Sí | M1238: =IF(B1238="","Sí","No") -> Sí | N1238: =IF(B1238="","No","Sí") -> No
K1239: =IF(J1239="","",ROUND(J1239/1.15,2)) | L1239: =IF(A1239="","Sí","No") -> Sí | M1239: =IF(B1239="","Sí","No") -> Sí | N1239: =IF(B1239="","No","Sí") -> No
K1240: =IF(J1240="","",ROUND(J1240/1.15,2)) | L1240: =IF(A1240="","Sí","No") -> Sí | M1240: =IF(B1240="","Sí","No") -> Sí | N1240: =IF(B1240="","No","Sí") -> No
... K1501: =IF(J1501="","",ROUND(J1501/1.15,2)) | L1501: =IF(A1501="","Sí","No") -> Sí | M1501: =IF(B1501="","Sí","No") -> Sí | N1501: =IF(B1501="","No","Sí") -> No

Sheet Métodos de Pago
A1: 📌 Antes de completar esta hoja: • Esta hoja corresponde a los métodos de pago con los cuales la empresa recibe pagos de sus clientes. • Solo se permiten los métodos de pago ya establecidos en el sistema. Selecciónelos únicamente desde la lista desplegable. • La Cuenta contable es obligatoria para todos los métodos de pago. • El campo “Nombre Cuenta / Banco” solo aplica para Tarjeta de Débito/Credito y Transferencia Bancaria. No debe completarse para Efectivo ni Cheque. • La “Comisión %” solo aplica para pagos con Tarjeta de Débito/Credito y es obligatoria en este caso. • La “Tasa 3DS” solo aplica para pagos con Tarjeta de Débito/Credito mediante Link de Pago. • No complete campos que no correspondan al tipo de método seleccionado.
A2: Tipo de método | B2: Cuenta contable | C2: Nombre Cuenta / Banco | D2: Comisión % | E2: Tasa 3DS (L)

Sheet Descuentos por Ley
A1: 📌 Antes de completar esta hoja: • Esta hoja corresponde a los descuentos otorgados conforme a la ley hondureña (tercera edad, cuarta edad y discapacidad). • Puede registrar hasta cinco (5) descuentos por cada tipo. • Seleccione el Tipo de Descuento únicamente desde la lista desplegable. • El porcentaje debe ingresarse como número sin el símbolo % (ejemplo: 25).
A2: Tipo de descuento | B2: Nombre del descuento | C2: % Descuento

Sheet Listas
A1: Grupo | B1: Efectivo | C1: Descuentos por tercera edad | D1: =IF('Cuentas de Ingresos'!C3="Detalle", 'Cuentas de Ingresos'!A3, "") | E1: =IF('Cuentas de Ingresos'!C3="Grupo", 'Cuentas de Ingresos'!A3, "")
A2: Detalle | B2: Tarjeta de Débito/Credito | C2: Descuentos por cuarta edad | D2: =IF('Cuentas de Ingresos'!C4="Detalle", 'Cuentas de Ingresos'!A4, "") | E2: =IF('Cuentas de Ingresos'!C4="Grupo", 'Cuentas de Ingresos'!A4, "")
B3: Transferencia Bancaria | C3: Descuentos por discapacidad | D3: =IF('Cuentas de Ingresos'!C5="Detalle", 'Cuentas de Ingresos'!A5, "") | E3: =IF('Cuentas de Ingresos'!C5="Grupo", 'Cuentas de Ingresos'!A5, "")
B4: Cheque | D4: =IF('Cuentas de Ingresos'!C6="Detalle", 'Cuentas de Ingresos'!A6, "") | E4: =IF('Cuentas de Ingresos'!C6="Grupo", 'Cuentas de Ingresos'!A6, "")
D5: =IF('Cuentas de Ingresos'!C7="Detalle", 'Cuentas de Ingresos'!A7, "") | E5: =IF('Cuentas de Ingresos'!C7="Grupo", 'Cuentas de Ingresos'!A7, "")
D6: =IF('Cuentas de Ingresos'!C8="Detalle", 'Cuentas de Ingresos'!A8, "") | E6: =IF('Cuentas de Ingresos'!C8="Grupo", 'Cuentas de Ingresos'!A8, "")
D7: =IF('Cuentas de Ingresos'!C9="Detalle", 'Cuentas de Ingresos'!A9, "") | E7: =IF('Cuentas de Ingresos'!C9="Grupo", 'Cuentas de Ingresos'!A9, "")
D8: =IF('Cuentas de Ingresos'!C10="Detalle", 'Cuentas de Ingresos'!A10, "") | E8: =IF('Cuentas de Ingresos'!C10="Grupo", 'Cuentas de Ingresos'!A10, "")
D9: =IF('Cuentas de Ingresos'!C11="Detalle", 'Cuentas de Ingresos'!A11, "") | E9: =IF('Cuentas de Ingresos'!C11="Grupo", 'Cuentas de Ingresos'!A11, "")
D10: =IF('Cuentas de Ingresos'!C12="Detalle", 'Cuentas de Ingresos'!A12, "") | E10: =IF('Cuentas de Ingresos'!C12="Grupo", 'Cuentas de Ingresos'!A12, "")
D11: =IF('Cuentas de Ingresos'!C13="Detalle", 'Cuentas de Ingresos'!A13, "") | E11: =IF('Cuentas de Ingresos'!C13="Grupo", 'Cuentas de Ingresos'!A13, "")
D12: =IF('Cuentas de Ingresos'!C14="Detalle", 'Cuentas de Ingresos'!A14, "") | E12: =IF('Cuentas de Ingresos'!C14="Grupo", 'Cuentas de Ingresos'!A14, "")
D13: =IF('Cuentas de Ingresos'!C15="Detalle", 'Cuentas de Ingresos'!A15, "") | E13: =IF('Cuentas de Ingresos'!C15="Grupo", 'Cuentas de Ingresos'!A15, "")
D14: =IF('Cuentas de Ingresos'!C16="Detalle", 'Cuentas de Ingresos'!A16, "") | E14: =IF('Cuentas de Ingresos'!C16="Grupo", 'Cuentas de Ingresos'!A16, "")
D15: =IF('Cuentas de Ingresos'!C17="Detalle", 'Cuentas de Ingresos'!A17, "") | E15: =IF('Cuentas de Ingresos'!C17="Grupo", 'Cuentas de Ingresos'!A17, "")
D16: =IF('Cuentas de Ingresos'!C18="Detalle", 'Cuentas de Ingresos'!A18, "") | E16: =IF('Cuentas de Ingresos'!C18="Grupo", 'Cuentas de Ingresos'!A18, "")
... D2498: =IF('Cuentas de Ingresos'!C2500="Detalle", 'Cuentas de Ingresos'!A2500, "") | E2498: =IF('Cuentas de Ingresos'!C2500="Grupo", 'Cuentas de Ingresos'!A2500, "")
D2499: =IF('Cuentas de Ingresos'!C2501="Detalle", 'Cuentas de Ingresos'!A2501, "")
D2500: =IF('Cuentas de Ingresos'!C2502="Detalle", 'Cuentas de Ingresos'!A2502, "")
D2501: =IF('Cuentas de Ingresos'!C2503="Detalle", 'Cuentas de Ingresos'!A2503, "")
D2502: =IF('Cuentas de Ingresos'!C2504="Detalle", 'Cuentas de Ingresos'!A2504, "")
D2503: =IF('Cuentas de Ingresos'!C2505="Detalle", 'Cuentas de Ingresos'!A2505, "")
D2504: =IF('Cuentas de Ingresos'!C2506="Detalle", 'Cuentas de Ingresos'!A2506, "")
D2505: =IF('Cuentas de Ingresos'!C2507="Detalle", 'Cuentas de Ingresos'!A2507, "")
D2506: =IF('Cuentas de Ingresos'!C2508="Detalle", 'Cuentas de Ingresos'!A2508, "")
D2507: =IF('Cuentas de Ingresos'!C2509="Detalle", 'Cuentas de Ingresos'!A2509, "")
D2508: =IF('Cuentas de Ingresos'!C2510="Detalle", 'Cuentas de Ingresos'!A2510, "")
D2509: =IF('Cuentas de Ingresos'!C2511="Detalle", 'Cuentas de Ingresos'!A2511, "")
D2510: =IF('Cuentas de Ingresos'!C2512="Detalle", 'Cuentas de Ingresos'!A2512, "")
... D2604: =IF('Cuentas de Ingresos'!C2606="Detalle", 'Cuentas de Ingresos'!A2606, "")

Sheet Impuestos
A1: ID | B1: Porcentaje
A2: 1 | B2: 15
A3: 2 | B3: 18
A4: 3 | B4: 4
A5: 4 | B5: 0
